BEGIN:VCALENDAR
VERSION:2.0
PRODID:-//HIM Food Bank in Mansfield - ECPv6.15.20//NONSGML v1.0//EN
CALSCALE:GREGORIAN
METHOD:PUBLISH
X-WR-CALNAME:HIM Food Bank in Mansfield
X-ORIGINAL-URL:https://himfoodbank.org
X-WR-CALDESC:Events for HIM Food Bank in Mansfield
REFRESH-INTERVAL;VALUE=DURATION:PT1H
X-Robots-Tag:noindex
X-PUBLISHED-TTL:PT1H
BEGIN:VTIMEZONE
TZID:America/Chicago
BEGIN:DAYLIGHT
TZOFFSETFROM:-0600
TZOFFSETTO:-0500
TZNAME:CDT
DTSTART:20210314T080000
END:DAYLIGHT
BEGIN:STANDARD
TZOFFSETFROM:-0500
TZOFFSETTO:-0600
TZNAME:CST
DTSTART:20211107T070000
END:STANDARD
BEGIN:DAYLIGHT
TZOFFSETFROM:-0600
TZOFFSETTO:-0500
TZNAME:CDT
DTSTART:20220313T080000
END:DAYLIGHT
BEGIN:STANDARD
TZOFFSETFROM:-0500
TZOFFSETTO:-0600
TZNAME:CST
DTSTART:20221106T070000
END:STANDARD
BEGIN:DAYLIGHT
TZOFFSETFROM:-0600
TZOFFSETTO:-0500
TZNAME:CDT
DTSTART:20230312T080000
END:DAYLIGHT
BEGIN:STANDARD
TZOFFSETFROM:-0500
TZOFFSETTO:-0600
TZNAME:CST
DTSTART:20231105T070000
END:STANDARD
BEGIN:DAYLIGHT
TZOFFSETFROM:-0600
TZOFFSETTO:-0500
TZNAME:CDT
DTSTART:20240310T080000
END:DAYLIGHT
BEGIN:STANDARD
TZOFFSETFROM:-0500
TZOFFSETTO:-0600
TZNAME:CST
DTSTART:20241103T070000
END:STANDARD
BEGIN:DAYLIGHT
TZOFFSETFROM:-0600
TZOFFSETTO:-0500
TZNAME:CDT
DTSTART:20250309T080000
END:DAYLIGHT
BEGIN:STANDARD
TZOFFSETFROM:-0500
TZOFFSETTO:-0600
TZNAME:CST
DTSTART:20251102T070000
END:STANDARD
BEGIN:DAYLIGHT
TZOFFSETFROM:-0600
TZOFFSETTO:-0500
TZNAME:CDT
DTSTART:20260308T080000
END:DAYLIGHT
BEGIN:STANDARD
TZOFFSETFROM:-0500
TZOFFSETTO:-0600
TZNAME:CST
DTSTART:20261101T070000
END:STANDARD
END:VTIMEZONE
BEGIN:VEVENT
DTSTART;TZID=America/Chicago:20251210T160000
DTEND;TZID=America/Chicago:20251210T180000
DTSTAMP:20260423T140323
CREATED:20251015T140647Z
LAST-MODIFIED:20251120T175540Z
UID:6086-1765382400-1765389600@himfoodbank.org
SUMMARY:Christmas In The Warehouse
DESCRIPTION:HIM Food Bank Warehouse\n150 S 6th Ave.\nMansfield\, TX 76063 \nRSVP: lisa@himfoodbank.org \nWhat you’ll experience:\nWalk through the catalog in real life\nFill a grocery cart\, pack a backpack\nHear real stories from the field\nRing a bell every time a gift is given \n  \nWe want you to experience in real\nlife what your generosity makes possible. \nScratch Made Street Tacos & Christmas Mocktails will be served! \nPlease join us!
URL:https://himfoodbank.org/event/christmas-in-the-warehouse/
LOCATION:TX
END:VEVENT
BEGIN:VEVENT
DTSTART;TZID=America/Chicago:20251002T173000
DTEND;TZID=America/Chicago:20251002T193000
DTSTAMP:20260423T140323
CREATED:20250908T162654Z
LAST-MODIFIED:20250908T170019Z
UID:5887-1759426200-1759433400@himfoodbank.org
SUMMARY:Fill the Bowls
DESCRIPTION:An evening of Compassion & Community\nOctober 2\, 2025 – Thursday\n5:30 PM – 7:30 PM\nAnchora Event Center\, Mansfield\nFeaturing artisan and chef tasting\, live music\, silent auction\, handcrafted student\nbowls\, sports memorabilia\, artisan jewelry\, custom knives & more! \nEvery bowl supports the Grub Hub – High School Markets for students in need\nof healthy groceries. \n\nRegister Now \nDownload Flyer
URL:https://himfoodbank.org/event/fill-the-bowls-2025/
LOCATION:Anchora Event Center\, Mansfield\, 403 E Broad St\, Mansfield\, TX\, 76063\, United States
ATTACH;FMTTYPE=image/jpeg:https://himfoodbank.org/wp-content/uploads/2025/09/Fill-the-Bowls-Banner_2025.jpg
END:VEVENT
BEGIN:VEVENT
DTSTART;TZID=America/Chicago:20250612T173000
DTEND;TZID=America/Chicago:20250612T173000
DTSTAMP:20260423T140323
CREATED:20250228T201450Z
LAST-MODIFIED:20250612T150815Z
UID:4901-1749749400-1749749400@himfoodbank.org
SUMMARY:Fiesta Baskets\, Bingo and Badges
DESCRIPTION:You’re Invited!\nOn June 12\, the 5th annual Baskets\, Bingo\, & Badges event will give community members and businesses\nanother opportunity to participate with the H.I.M. Food Bank. \nREGISTRATION IS NOW CLOSED.\nThank you for your interest in providing nutritious\ngroceries to the hungry in our communities. \n  \nWalnut Creek Country Club\n1151 Country Club Drive\nMansfield\, TX 76063
URL:https://himfoodbank.org/event/fiesta-baskets-bingo-and-badges/
LOCATION:Walnut Creek Country Club\, 1151 Country Club Drive\, Mansfield\, TX 76063
END:VEVENT
BEGIN:VEVENT
DTSTART;TZID=America/Chicago:20250225T110000
DTEND;TZID=America/Chicago:20250225T130000
DTSTAMP:20260423T140323
CREATED:20240228T141118Z
LAST-MODIFIED:20241016T131950Z
UID:3270-1740481200-1740488400@himfoodbank.org
SUMMARY:Faith Leadership Conference on Hunger
DESCRIPTION:We believe that together\, guided by our faith and values\,\nwe can create lasting change. By fostering compassion\nand promoting self-sufficiency\, we can support those\naffected by hunger in our community and help them\nbuild stronger\, more independent lives. \n  \nRSVP by February 18\, 2025 to lisa@himcenter.org\n  \nHIM Food Bank\n150 S 6th Avenue\nMansfield\, TX
URL:https://himfoodbank.org/event/faith-leadership-conference-on-hunger/
LOCATION:TX
END:VEVENT
BEGIN:VEVENT
DTSTART;TZID=America/Chicago:20240613T173000
DTEND;TZID=America/Chicago:20240613T173000
DTSTAMP:20260423T140323
CREATED:20240228T141358Z
LAST-MODIFIED:20240612T135850Z
UID:3272-1718299800-1718299800@himfoodbank.org
SUMMARY:Baskets\, Bingo and Badges
DESCRIPTION:** SOLD OUT **\nBenefitting HIM Food Bank and the families we serve. \nDoors Open at 5:30 pm\nJohnson Activity Center at St. Vincent De Paul Catholic Church\n5819 W. Pleasant Ridge Road\nArlington\, TX
URL:https://himfoodbank.org/event/baskets-and-bingo/
LOCATION:TX
END:VEVENT
BEGIN:VEVENT
DTSTART;TZID=America/Chicago:20230915T190000
DTEND;TZID=America/Chicago:20230915T190000
DTSTAMP:20260423T140323
CREATED:20230119T160410Z
LAST-MODIFIED:20230823T134417Z
UID:2173-1694804400-1694804400@himfoodbank.org
SUMMARY:Hunger to Hope Round Up
DESCRIPTION:Doors Open at 6:00 pm\nProgram Begins at 7:00 pm \nJohnson Activity Center\nSt. Vincent de Paul Church\n5819 W Pleasant Ridge Road\nArlington\, TX 76016 \nLearn more about the event here.
URL:https://himfoodbank.org/event/hunger-to-hope/
LOCATION:TX
END:VEVENT
BEGIN:VEVENT
DTSTART;TZID=America/Chicago:20230912T110000
DTEND;TZID=America/Chicago:20230912T130000
DTSTAMP:20260423T140323
CREATED:20230419T135517Z
LAST-MODIFIED:20230815T143440Z
UID:2294-1694516400-1694523600@himfoodbank.org
SUMMARY:Inaugural Faith Leadership Conference on Hunger
DESCRIPTION:150 S. 6th Avenue\nMansfield\, Tx 76063
URL:https://himfoodbank.org/event/inaugural-faith-leadership-conference-on-hunger/
LOCATION:TX
END:VEVENT
BEGIN:VEVENT
DTSTART;TZID=America/Chicago:20230621T183000
DTEND;TZID=America/Chicago:20230621T183000
DTSTAMP:20260423T140323
CREATED:20221031T134442Z
LAST-MODIFIED:20230315T151909Z
UID:2095-1687372200-1687372200@himfoodbank.org
SUMMARY:Mega Mobile Market
DESCRIPTION:6:30 pm – Until all food has been distributed.  \nDr. Jim Vaszauskas Center for Performing Arts\n1110 W. Debbie Lane\, Mansfield\, TX 76063
URL:https://himfoodbank.org/event/mega-mobile-market-8/
LOCATION:TX
END:VEVENT
BEGIN:VEVENT
DTSTART;TZID=America/Chicago:20230615T180000
DTEND;TZID=America/Chicago:20230615T210000
DTSTAMP:20260423T140323
CREATED:20230119T160128Z
LAST-MODIFIED:20230119T160440Z
UID:2169-1686852000-1686862800@himfoodbank.org
SUMMARY:Baskets\, Bingo and Badges
DESCRIPTION:More information to follow…
URL:https://himfoodbank.org/event/baskets-bingo-and-badges/
LOCATION:St. Vincent De Paul Activity Center (Arlington\, TX)\, TX\, United States
END:VEVENT
BEGIN:VEVENT
DTSTART;TZID=America/Chicago:20230419T120000
DTEND;TZID=America/Chicago:20230419T150000
DTSTAMP:20260423T140323
CREATED:20230418T143229Z
LAST-MODIFIED:20230418T143436Z
UID:2281-1681905600-1681916400@himfoodbank.org
SUMMARY:Open House
DESCRIPTION:Please join us for Warehouse Tours\, Program Updates\, Previews of 2023 HIM Mustard Seed Market!\nSnacks\, Drinks and Fun will be provided to all! \n150 S. 6th Avenue\nMansfield\, TX 76063
URL:https://himfoodbank.org/event/open-house/
LOCATION:TX
END:VEVENT
BEGIN:VEVENT
DTSTART;TZID=America/Chicago:20230308T183000
DTEND;TZID=America/Chicago:20230308T183000
DTSTAMP:20260423T140323
CREATED:20221031T134337Z
LAST-MODIFIED:20221031T134337Z
UID:2093-1678300200-1678300200@himfoodbank.org
SUMMARY:Mega Mobile Market
DESCRIPTION:6:30 pm – Until all food has been distributed.  \nDr. Jim Vaszauskas Center for Performing Arts\n1110 W. Debbie Lane\, Mansfield\, TX 76063
URL:https://himfoodbank.org/event/mega-mobile-market-7/
LOCATION:TX
END:VEVENT
BEGIN:VEVENT
DTSTART;TZID=America/Chicago:20230222T183000
DTEND;TZID=America/Chicago:20230222T183000
DTSTAMP:20260423T140323
CREATED:20221031T134110Z
LAST-MODIFIED:20221031T134110Z
UID:2090-1677090600-1677090600@himfoodbank.org
SUMMARY:Mega Mobile Market
DESCRIPTION:6:30 pm – Until all food has been distributed.  \nDr. Jim Vaszauskas Center for Performing Arts\n1110 W. Debbie Lane\, Mansfield\, TX 76063
URL:https://himfoodbank.org/event/mega-mobile-market-6/
LOCATION:TX
END:VEVENT
BEGIN:VEVENT
DTSTART;TZID=America/Chicago:20230125T183000
DTEND;TZID=America/Chicago:20230125T183000
DTSTAMP:20260423T140323
CREATED:20221031T133907Z
LAST-MODIFIED:20221031T134215Z
UID:2082-1674671400-1674671400@himfoodbank.org
SUMMARY:Mega Mobile Market
DESCRIPTION:6:30 pm – Until all food has been distributed. \nDr. Jim Vaszauskas Center for Performing Arts\n1110 W. Debbie Lane\, Mansfield\, TX 76063
URL:https://himfoodbank.org/event/mega-mobile-market-5/
LOCATION:TX
END:VEVENT
BEGIN:VEVENT
DTSTART;VALUE=DATE:20230112
DTEND;VALUE=DATE:20230113
DTSTAMP:20260423T140323
CREATED:20220404T130932Z
LAST-MODIFIED:20220404T130932Z
UID:1497-1673481600-1673567999@himfoodbank.org
SUMMARY:Board Meeting – Annual Meeting
DESCRIPTION:Anchora Events Center
URL:https://himfoodbank.org/event/board-meeting-annual-meeting/
LOCATION:TX
END:VEVENT
BEGIN:VEVENT
DTSTART;TZID=America/Chicago:20230111T183000
DTEND;TZID=America/Chicago:20230111T183000
DTSTAMP:20260423T140323
CREATED:20221031T133741Z
LAST-MODIFIED:20221031T133931Z
UID:2080-1673461800-1673461800@himfoodbank.org
SUMMARY:Mega Mobile Market
DESCRIPTION:6:30 pm – Until all food has been distributed. \nDr. Jim Vaszauskas Center for Performing Arts\n1110 W. Debbie Lane\, Mansfield\, TX 76063
URL:https://himfoodbank.org/event/mega-mobile-market-4/
LOCATION:TX
END:VEVENT
BEGIN:VEVENT
DTSTART;TZID=America/Chicago:20221218T160000
DTEND;TZID=America/Chicago:20221218T160000
DTSTAMP:20260423T140323
CREATED:20220404T130905Z
LAST-MODIFIED:20220404T130905Z
UID:1495-1671379200-1671379200@himfoodbank.org
SUMMARY:2022 Christmas Board & Staff Dinner
DESCRIPTION:Tierra Verde Golf Club
URL:https://himfoodbank.org/event/2022-christmas-board-staff-dinner/
LOCATION:TX
END:VEVENT
BEGIN:VEVENT
DTSTART;TZID=America/Chicago:20221214T183000
DTEND;TZID=America/Chicago:20221214T183000
DTSTAMP:20260423T140323
CREATED:20221031T132254Z
LAST-MODIFIED:20221031T133956Z
UID:2067-1671042600-1671042600@himfoodbank.org
SUMMARY:Mega Mobile Market
DESCRIPTION:6:30 pm – Until all food has been distributed.  \nDr. Jim Vaszauskas Center for Performing Arts\n1110 W. Debbie Lane\, Mansfield\, TX 76063
URL:https://himfoodbank.org/event/mega-mobile-market-dec/
LOCATION:TX
END:VEVENT
BEGIN:VEVENT
DTSTART;TZID=America/Chicago:20221110T180000
DTEND;TZID=America/Chicago:20221110T180000
DTSTAMP:20260423T140323
CREATED:20220404T130839Z
LAST-MODIFIED:20220404T130839Z
UID:1493-1668103200-1668103200@himfoodbank.org
SUMMARY:2022 Volunteer Appreciation Banquet
DESCRIPTION:Tierra Verde Golf Club
URL:https://himfoodbank.org/event/2022-volunteer-appreciation-banquet/
LOCATION:TX
END:VEVENT
BEGIN:VEVENT
DTSTART;TZID=America/Chicago:20221103T173000
DTEND;TZID=America/Chicago:20221103T173000
DTSTAMP:20260423T140323
CREATED:20220404T130543Z
LAST-MODIFIED:20220404T130815Z
UID:1489-1667496600-1667496600@himfoodbank.org
SUMMARY:Bingo Fundraiser
DESCRIPTION:
URL:https://himfoodbank.org/event/bingo-fundraiser-2/
LOCATION:TX
END:VEVENT
BEGIN:VEVENT
DTSTART;TZID=America/Chicago:20221021T080000
DTEND;TZID=America/Chicago:20221021T080000
DTSTAMP:20260423T140323
CREATED:20220404T130520Z
LAST-MODIFIED:20220404T130520Z
UID:1487-1666339200-1666339200@himfoodbank.org
SUMMARY:Holes For Hunger Golf Tournament
DESCRIPTION:Southern Oaks Golf Course
URL:https://himfoodbank.org/event/holes-for-hunger-golf-tournament/
LOCATION:TX
END:VEVENT
BEGIN:VEVENT
DTSTART;VALUE=DATE:20221013
DTEND;VALUE=DATE:20221014
DTSTAMP:20260423T140323
CREATED:20220404T130447Z
LAST-MODIFIED:20220404T130447Z
UID:1485-1665619200-1665705599@himfoodbank.org
SUMMARY:Board/Golf Meeting
DESCRIPTION:
URL:https://himfoodbank.org/event/board-golf-meeting/
LOCATION:TX
END:VEVENT
BEGIN:VEVENT
DTSTART;VALUE=DATE:20221012
DTEND;VALUE=DATE:20221013
DTSTAMP:20260423T140323
CREATED:20220404T130426Z
LAST-MODIFIED:20220404T130426Z
UID:1482-1665532800-1665619199@himfoodbank.org
SUMMARY:Empty Bowls Lunch & Learn
DESCRIPTION:Anchora Events Center
URL:https://himfoodbank.org/event/empty-bowls-lunch-learn-3/
LOCATION:TX
END:VEVENT
BEGIN:VEVENT
DTSTART;TZID=America/Chicago:20220928T183000
DTEND;TZID=America/Chicago:20220928T203000
DTSTAMP:20260423T140323
CREATED:20220920T142055Z
LAST-MODIFIED:20220920T142055Z
UID:1968-1664389800-1664397000@himfoodbank.org
SUMMARY:Mega Mobile Market
DESCRIPTION:Dr. Jim Vaszauskas Center for Performing Arts\n1110 W. Debbie Lane\, Mansfield\, TX 76063
URL:https://himfoodbank.org/event/mega-mobile-market-3/
LOCATION:TX
END:VEVENT
BEGIN:VEVENT
DTSTART;TZID=America/Chicago:20220917T180000
DTEND;TZID=America/Chicago:20220917T180000
DTSTAMP:20260423T140323
CREATED:20220404T130259Z
LAST-MODIFIED:20220404T130259Z
UID:1479-1663437600-1663437600@himfoodbank.org
SUMMARY:Sock Hop Donor Event
DESCRIPTION:St. Vincent de Paul Johnson Activity Center
URL:https://himfoodbank.org/event/sock-hop-donor-event/
LOCATION:TX
END:VEVENT
BEGIN:VEVENT
DTSTART;TZID=America/Chicago:20220915T173000
DTEND;TZID=America/Chicago:20220915T173000
DTSTAMP:20260423T140323
CREATED:20220404T130231Z
LAST-MODIFIED:20220404T130231Z
UID:1476-1663263000-1663263000@himfoodbank.org
SUMMARY:Board Meeting
DESCRIPTION:Anchora Events Center
URL:https://himfoodbank.org/event/board-meeting-2/
LOCATION:TX
END:VEVENT
BEGIN:VEVENT
DTSTART;TZID=America/Chicago:20220914T183000
DTEND;TZID=America/Chicago:20220914T203000
DTSTAMP:20260423T140323
CREATED:20220831T141822Z
LAST-MODIFIED:20220831T151604Z
UID:1938-1663180200-1663187400@himfoodbank.org
SUMMARY:Mega Mobile Market
DESCRIPTION:Dr. Jim Vaszauskas Center for Performing Arts\n1110 W. Debbie Lane\, Mansfield\, TX 76063
URL:https://himfoodbank.org/event/mega-mobile-market-2/
LOCATION:TX
END:VEVENT
BEGIN:VEVENT
DTSTART;TZID=America/Chicago:20220824T183000
DTEND;TZID=America/Chicago:20220824T203000
DTSTAMP:20260423T140323
CREATED:20220726T184818Z
LAST-MODIFIED:20220801T050150Z
UID:1738-1661365800-1661373000@himfoodbank.org
SUMMARY:Mega Mobile Market
DESCRIPTION:Dr. Jim Vaszauskas Center for Performing Arts\n1110 W. Debbie Lane\, Mansfield\, TX 76063
URL:https://himfoodbank.org/event/mega-mobile-market/
LOCATION:TX
END:VEVENT
BEGIN:VEVENT
DTSTART;TZID=America/Chicago:20220616T180000
DTEND;TZID=America/Chicago:20220616T210000
DTSTAMP:20260423T140323
CREATED:20220222T135217Z
LAST-MODIFIED:20220504T230957Z
UID:1349-1655402400-1655413200@himfoodbank.org
SUMMARY:Baskets\, Bingo & Badges
DESCRIPTION:Food – Drink – Games – Prizes\nB7… BINGO! Bring your best bingo face and help support families in need at a fun event.
URL:https://himfoodbank.org/event/baskets-bingo-badges/
LOCATION:Johnson Activity Center at St. Vincent De Paul Catholic Church\, 5819 W. Pleasant Ridge Road\, Arlington\, TX\, 76016\, United States
END:VEVENT
BEGIN:VEVENT
DTSTART;VALUE=DATE:20220615
DTEND;VALUE=DATE:20220616
DTSTAMP:20260423T140323
CREATED:20220404T125943Z
LAST-MODIFIED:20220404T125943Z
UID:1472-1655251200-1655337599@himfoodbank.org
SUMMARY:Empty Bowls Lunch & Learn
DESCRIPTION:Anchora Events Center
URL:https://himfoodbank.org/event/empty-bowls-lunch-learn-2/
LOCATION:TX
END:VEVENT
BEGIN:VEVENT
DTSTART;TZID=America/Chicago:20220609T173000
DTEND;TZID=America/Chicago:20220609T173000
DTSTAMP:20260423T140323
CREATED:20220404T125602Z
LAST-MODIFIED:20220404T125602Z
UID:1469-1654795800-1654795800@himfoodbank.org
SUMMARY:Board Meeting
DESCRIPTION:Central Baptist Church
URL:https://himfoodbank.org/event/board-meeting/
LOCATION:TX
END:VEVENT
END:VCALENDAR