BEGIN:VCALENDAR
VERSION:2.0
PRODID:-//HIM Food Bank in Mansfield - ECPv6.15.20//NONSGML v1.0//EN
CALSCALE:GREGORIAN
METHOD:PUBLISH
X-WR-CALNAME:HIM Food Bank in Mansfield
X-ORIGINAL-URL:https://himfoodbank.org
X-WR-CALDESC:Events for HIM Food Bank in Mansfield
REFRESH-INTERVAL;VALUE=DURATION:PT1H
X-Robots-Tag:noindex
X-PUBLISHED-TTL:PT1H
BEGIN:VTIMEZONE
TZID:America/Chicago
BEGIN:DAYLIGHT
TZOFFSETFROM:-0600
TZOFFSETTO:-0500
TZNAME:CDT
DTSTART:20210314T080000
END:DAYLIGHT
BEGIN:STANDARD
TZOFFSETFROM:-0500
TZOFFSETTO:-0600
TZNAME:CST
DTSTART:20211107T070000
END:STANDARD
BEGIN:DAYLIGHT
TZOFFSETFROM:-0600
TZOFFSETTO:-0500
TZNAME:CDT
DTSTART:20220313T080000
END:DAYLIGHT
BEGIN:STANDARD
TZOFFSETFROM:-0500
TZOFFSETTO:-0600
TZNAME:CST
DTSTART:20221106T070000
END:STANDARD
BEGIN:DAYLIGHT
TZOFFSETFROM:-0600
TZOFFSETTO:-0500
TZNAME:CDT
DTSTART:20230312T080000
END:DAYLIGHT
BEGIN:STANDARD
TZOFFSETFROM:-0500
TZOFFSETTO:-0600
TZNAME:CST
DTSTART:20231105T070000
END:STANDARD
END:VTIMEZONE
BEGIN:VEVENT
DTSTART;TZID=America/Chicago:20220407T093000
DTEND;TZID=America/Chicago:20220407T093000
DTSTAMP:20260423T191514
CREATED:20220404T124950Z
LAST-MODIFIED:20220404T124950Z
UID:1456-1649323800-1649323800@himfoodbank.org
SUMMARY:CFN Church – 500#
DESCRIPTION:
URL:https://himfoodbank.org/event/cfn-church-500/
END:VEVENT
BEGIN:VEVENT
DTSTART;TZID=America/Chicago:20220407T083000
DTEND;TZID=America/Chicago:20220407T083000
DTSTAMP:20260423T191514
CREATED:20220404T124919Z
LAST-MODIFIED:20220404T124919Z
UID:1454-1649320200-1649320200@himfoodbank.org
SUMMARY:Central Storehouse – 1000#
DESCRIPTION:
URL:https://himfoodbank.org/event/central-storehouse-1000/
END:VEVENT
BEGIN:VEVENT
DTSTART;TZID=America/Chicago:20220406T130000
DTEND;TZID=America/Chicago:20220406T130000
DTSTAMP:20260423T191514
CREATED:20220404T124817Z
LAST-MODIFIED:20220404T124817Z
UID:1450-1649250000-1649250000@himfoodbank.org
SUMMARY:Under The Son Outreach – 500#
DESCRIPTION:
URL:https://himfoodbank.org/event/under-the-son-outreach-500/
END:VEVENT
BEGIN:VEVENT
DTSTART;TZID=America/Chicago:20220406T113000
DTEND;TZID=America/Chicago:20220406T113000
DTSTAMP:20260423T191514
CREATED:20220404T124755Z
LAST-MODIFIED:20220404T124755Z
UID:1448-1649244600-1649244600@himfoodbank.org
SUMMARY:S.O.W. – 750#
DESCRIPTION:
URL:https://himfoodbank.org/event/s-o-w-750/
END:VEVENT
BEGIN:VEVENT
DTSTART;TZID=America/Chicago:20220406T100000
DTEND;TZID=America/Chicago:20220406T100000
DTSTAMP:20260423T191514
CREATED:20220404T122559Z
LAST-MODIFIED:20220404T122559Z
UID:1446-1649239200-1649239200@himfoodbank.org
SUMMARY:New Home Community – 500#
DESCRIPTION:
URL:https://himfoodbank.org/event/new-home-community-500/
END:VEVENT
BEGIN:VEVENT
DTSTART;TZID=America/Chicago:20220406T093000
DTEND;TZID=America/Chicago:20220406T093000
DTSTAMP:20260423T191514
CREATED:20220404T122516Z
LAST-MODIFIED:20220404T122516Z
UID:1444-1649237400-1649237400@himfoodbank.org
SUMMARY:New Life Community Center – 500#
DESCRIPTION:
URL:https://himfoodbank.org/event/new-life-community-center-500-2/
END:VEVENT
BEGIN:VEVENT
DTSTART;TZID=America/Chicago:20220406T093000
DTEND;TZID=America/Chicago:20220406T093000
DTSTAMP:20260423T191514
CREATED:20220404T122436Z
LAST-MODIFIED:20220404T122436Z
UID:1442-1649237400-1649237400@himfoodbank.org
SUMMARY:New Life Community Center – 500#
DESCRIPTION:
URL:https://himfoodbank.org/event/new-life-community-center-500/
END:VEVENT
BEGIN:VEVENT
DTSTART;TZID=America/Chicago:20220406T090000
DTEND;TZID=America/Chicago:20220406T090000
DTSTAMP:20260423T191514
CREATED:20220404T122411Z
LAST-MODIFIED:20220404T122411Z
UID:1440-1649235600-1649235600@himfoodbank.org
SUMMARY:M25:35 – 500#
DESCRIPTION:
URL:https://himfoodbank.org/event/m2535-500/
END:VEVENT
BEGIN:VEVENT
DTSTART;TZID=America/Chicago:20220406T080000
DTEND;TZID=America/Chicago:20220406T080000
DTSTAMP:20260423T191514
CREATED:20220404T122347Z
LAST-MODIFIED:20220404T122347Z
UID:1438-1649232000-1649232000@himfoodbank.org
SUMMARY:Bethlehem Baptist – Bread/Veggies
DESCRIPTION:
URL:https://himfoodbank.org/event/bethlehem-baptist-bread-veggies/
END:VEVENT
BEGIN:VEVENT
DTSTART;TZID=America/Chicago:20220406T030000
DTEND;TZID=America/Chicago:20220406T030000
DTSTAMP:20260423T191514
CREATED:20220404T124844Z
LAST-MODIFIED:20220404T124844Z
UID:1452-1649214000-1649214000@himfoodbank.org
SUMMARY:Kylie’s Transitional Home – 1200#
DESCRIPTION:
URL:https://himfoodbank.org/event/kylies-transitional-home-1200/
END:VEVENT
BEGIN:VEVENT
DTSTART;TZID=America/Chicago:20220405T130000
DTEND;TZID=America/Chicago:20220405T130000
DTSTAMP:20260423T191514
CREATED:20220404T122329Z
LAST-MODIFIED:20220404T122329Z
UID:1436-1649163600-1649163600@himfoodbank.org
SUMMARY:Kingdom Childs – 500#
DESCRIPTION:
URL:https://himfoodbank.org/event/kingdom-childs-500/
END:VEVENT
BEGIN:VEVENT
DTSTART;TZID=America/Chicago:20220405T100000
DTEND;TZID=America/Chicago:20220405T100000
DTSTAMP:20260423T191514
CREATED:20220404T122312Z
LAST-MODIFIED:20220404T122312Z
UID:1434-1649152800-1649152800@himfoodbank.org
SUMMARY:Always A Service With A Difference – 750#
DESCRIPTION:
URL:https://himfoodbank.org/event/always-a-service-with-a-difference-750/
END:VEVENT
BEGIN:VEVENT
DTSTART;TZID=America/Chicago:20220405T090000
DTEND;TZID=America/Chicago:20220405T090000
DTSTAMP:20260423T191514
CREATED:20220404T122238Z
LAST-MODIFIED:20220404T122238Z
UID:1432-1649149200-1649149200@himfoodbank.org
SUMMARY:Dallas County Harvest – 500%
DESCRIPTION:
URL:https://himfoodbank.org/event/dallas-county-harvest-500/
END:VEVENT
BEGIN:VEVENT
DTSTART;TZID=America/Chicago:20220405T080000
DTEND;TZID=America/Chicago:20220405T080000
DTSTAMP:20260423T191514
CREATED:20220404T122218Z
LAST-MODIFIED:20220404T122218Z
UID:1430-1649145600-1649145600@himfoodbank.org
SUMMARY:Paluxy Baptist Asso. – 2000#
DESCRIPTION:
URL:https://himfoodbank.org/event/paluxy-baptist-asso-2000/
END:VEVENT
BEGIN:VEVENT
DTSTART;TZID=America/Chicago:20220404T133000
DTEND;TZID=America/Chicago:20220404T133000
DTSTAMP:20260423T191514
CREATED:20220404T122155Z
LAST-MODIFIED:20220404T122155Z
UID:1428-1649079000-1649079000@himfoodbank.org
SUMMARY:New Senior Outreach – 750#
DESCRIPTION:
URL:https://himfoodbank.org/event/new-senior-outreach-750/
END:VEVENT
BEGIN:VEVENT
DTSTART;TZID=America/Chicago:20220404T110000
DTEND;TZID=America/Chicago:20220404T110000
DTSTAMP:20260423T191514
CREATED:20220404T122137Z
LAST-MODIFIED:20220404T122137Z
UID:1426-1649070000-1649070000@himfoodbank.org
SUMMARY:Liberty Church – 500#
DESCRIPTION:
URL:https://himfoodbank.org/event/liberty-church-500/
END:VEVENT
BEGIN:VEVENT
DTSTART;TZID=America/Chicago:20220404T103000
DTEND;TZID=America/Chicago:20220404T103000
DTSTAMP:20260423T191514
CREATED:20220404T122108Z
LAST-MODIFIED:20220404T122108Z
UID:1424-1649068200-1649068200@himfoodbank.org
SUMMARY:FB Rio Vista – 1500#
DESCRIPTION:
URL:https://himfoodbank.org/event/fb-rio-vista-1500/
END:VEVENT
BEGIN:VEVENT
DTSTART;TZID=America/Chicago:20220404T100000
DTEND;TZID=America/Chicago:20220404T100000
DTSTAMP:20260423T191514
CREATED:20220404T122050Z
LAST-MODIFIED:20220404T122050Z
UID:1421-1649066400-1649066400@himfoodbank.org
SUMMARY:The Pantry & More – 1500#
DESCRIPTION:
URL:https://himfoodbank.org/event/the-pantry-more-1500/
END:VEVENT
BEGIN:VEVENT
DTSTART;TZID=America/Chicago:20220401T103000
DTEND;TZID=America/Chicago:20220401T103000
DTSTAMP:20260423T191514
CREATED:20220404T122009Z
LAST-MODIFIED:20220404T122009Z
UID:1419-1648809000-1648809000@himfoodbank.org
SUMMARY:Oak Cliff Veggie Project – 500# Produce
DESCRIPTION:
URL:https://himfoodbank.org/event/oak-cliff-veggie-project-500-produce/
END:VEVENT
BEGIN:VEVENT
DTSTART;TZID=America/Chicago:20220401T100000
DTEND;TZID=America/Chicago:20220401T100000
DTSTAMP:20260423T191514
CREATED:20220404T121940Z
LAST-MODIFIED:20220404T121941Z
UID:1417-1648807200-1648807200@himfoodbank.org
SUMMARY:Holy House – 500#
DESCRIPTION:
URL:https://himfoodbank.org/event/holy-house-500/
END:VEVENT
BEGIN:VEVENT
DTSTART;TZID=America/Chicago:20220401T090000
DTEND;TZID=America/Chicago:20220401T090000
DTSTAMP:20260423T191514
CREATED:20220404T121838Z
LAST-MODIFIED:20220404T121900Z
UID:1414-1648803600-1648803600@himfoodbank.org
SUMMARY:Tolar Food Pantry – 750#
DESCRIPTION:
URL:https://himfoodbank.org/event/tolar-food-pantry-750/
END:VEVENT
END:VCALENDAR